BEGIN:VCALENDAR
VERSION:2.0
PRODID:-//IBIS e.V. - ECPv6.15.20//NONSGML v1.0//EN
CALSCALE:GREGORIAN
METHOD:PUBLISH
X-WR-CALNAME:IBIS e.V.
X-ORIGINAL-URL:https://ibis-ev.de
X-WR-CALDESC:Veranstaltungen für IBIS e.V.
REFRESH-INTERVAL;VALUE=DURATION:PT1H
X-Robots-Tag:noindex
X-PUBLISHED-TTL:PT1H
BEGIN:VTIMEZONE
TZID:Europe/Berlin
BEGIN:DAYLIGHT
TZOFFSETFROM:+0100
TZOFFSETTO:+0200
TZNAME:CEST
DTSTART:20220327T010000
END:DAYLIGHT
BEGIN:STANDARD
TZOFFSETFROM:+0200
TZOFFSETTO:+0100
TZNAME:CET
DTSTART:20221030T010000
END:STANDARD
BEGIN:DAYLIGHT
TZOFFSETFROM:+0100
TZOFFSETTO:+0200
TZNAME:CEST
DTSTART:20230326T010000
END:DAYLIGHT
BEGIN:STANDARD
TZOFFSETFROM:+0200
TZOFFSETTO:+0100
TZNAME:CET
DTSTART:20231029T010000
END:STANDARD
BEGIN:DAYLIGHT
TZOFFSETFROM:+0100
TZOFFSETTO:+0200
TZNAME:CEST
DTSTART:20240331T010000
END:DAYLIGHT
BEGIN:STANDARD
TZOFFSETFROM:+0200
TZOFFSETTO:+0100
TZNAME:CET
DTSTART:20241027T010000
END:STANDARD
END:VTIMEZONE
BEGIN:VEVENT
DTSTART;TZID=Europe/Berlin:20230222T140000
DTEND;TZID=Europe/Berlin:20230222T160000
DTSTAMP:20260426T062105
CREATED:20220511T093219Z
LAST-MODIFIED:20220511T094754Z
UID:10000427-1677074400-1677081600@ibis-ev.de
SUMMARY:Kreative Deutschkurse
DESCRIPTION:FInde deinen Ausdruck mit Farben\, Pinsel und anderen Materialien
URL:https://ibis-ev.de/veranstaltung/kreative-deutschkurse/2023-02-22/
LOCATION:Atelier am Bahnhofsplatz\, Bahnhofsplatz 10\, Oldenburg\, Niedersachsen\, 26122\, Deutschland
CATEGORIES:Kreative Deutschkurse
ATTACH;FMTTYPE=image/jpeg:https://ibis-ev.de/wp-content/uploads/2021/09/FB-3.2.2c-21-Flyer_Deutsch_Kreative_Deutschkurse_IG_Rv00_IG_19.08.21.jpg
END:VEVENT
END:VCALENDAR