BEGIN:VCALENDAR
VERSION:2.0
PRODID:-//IBIS e.V. - ECPv6.15.20//NONSGML v1.0//EN
CALSCALE:GREGORIAN
METHOD:PUBLISH
X-WR-CALNAME:IBIS e.V.
X-ORIGINAL-URL:https://ibis-ev.de
X-WR-CALDESC:Veranstaltungen für IBIS e.V.
REFRESH-INTERVAL;VALUE=DURATION:PT1H
X-Robots-Tag:noindex
X-PUBLISHED-TTL:PT1H
BEGIN:VTIMEZONE
TZID:Europe/Berlin
BEGIN:DAYLIGHT
TZOFFSETFROM:+0100
TZOFFSETTO:+0200
TZNAME:CEST
DTSTART:20250330T010000
END:DAYLIGHT
BEGIN:STANDARD
TZOFFSETFROM:+0200
TZOFFSETTO:+0100
TZNAME:CET
DTSTART:20251026T010000
END:STANDARD
BEGIN:DAYLIGHT
TZOFFSETFROM:+0100
TZOFFSETTO:+0200
TZNAME:CEST
DTSTART:20260329T010000
END:DAYLIGHT
BEGIN:STANDARD
TZOFFSETFROM:+0200
TZOFFSETTO:+0100
TZNAME:CET
DTSTART:20261025T010000
END:STANDARD
BEGIN:DAYLIGHT
TZOFFSETFROM:+0100
TZOFFSETTO:+0200
TZNAME:CEST
DTSTART:20270328T010000
END:DAYLIGHT
BEGIN:STANDARD
TZOFFSETFROM:+0200
TZOFFSETTO:+0100
TZNAME:CET
DTSTART:20271031T010000
END:STANDARD
END:VTIMEZONE
BEGIN:VEVENT
DTSTART;TZID=Europe/Berlin:20260424T170000
DTEND;TZID=Europe/Berlin:20260424T200000
DTSTAMP:20260426T063255
CREATED:20260312T111142Z
LAST-MODIFIED:20260312T111523Z
UID:30772-1777050000-1777060800@ibis-ev.de
SUMMARY:Argumentationstraining gegen Rechtsextremismus am 24. April - Zusatztermin
DESCRIPTION:Auf Grund der großen Nachfrage bieten wir ein weiteres Argumentationstraining gegen Rechtsextremismus an: \n\n24. April 2026\n17:00 bis 20:30 Uhr\nin der Nähe vom Oldenburger Bahnhof (genauer Ort wird nach der Anmeldung bekannt gegeben)\n\nWo Hass unwidersprochen bleibt\, entsteht der Eindruck\, Ausgrenzung und Vorurteile seien normal. Umso wichtiger ist es\, aktiv dagegen zu sprechen und so für eine offene\, vielfältige Gesellschaft einzutreten. \nDas Argumentationstraining bietet Interessierten die Möglichkeit\, Strategien zu erlernen\, um sich rassistischen und extremistischen Positionen entschlossen entgegenzustellen. Es verbindet Wissensvermittlung mit praktischer Anwendung und Reflexion der eigenen Haltung und stärkt die Teilnehmenden darin\, sich im Alltag für Demokratie\, Vielfalt und Respekt einzusetzen. Teilnehmende werden gestärkt\, das Erlernte an das eigene Umfeld weiterzugeben. So bringen wir gemeinsam eine Gesellschaft voran\, die geschlossen gegen Hass und Hetze auftritt. \nDie Teilnahme ist kostenlos. Eine Anmeldung über den folgenden Link ist bis zum 20. April möglich: https://forms.office.com/e/tamL8nn9FN \nDie Veranstaltung wird von der Koordinierungsstelle gegen Rechtsextremismus und gruppenbezogene Menschenfeindlichkeit Oldenburg\, kurz KoRex\, durchgeführt. Mehr Infos zur KoRex von IBIS gibt es auf unserer Webseite: https://ibis-ev.de/koordinierungsstelle-gegen-rechtsextremismus/ \nBei Fragen kannst du uns telefonisch unter der Nummer 0441 / 920 582 50 erreichen oder eine E-Mail an veranstaltung@ibis-ev.de schreiben. \nDiese Veranstaltung findet in Kooperation mit der Stadt Oldenburg statt\, weitere Veranstaltungen der 1. Oldenburger Woche gegen Rassismus sind hier [Veranstaltungskalender PfD bzw. Flyer] zu finden. \nhttps://padlet.com/antiraOL/wochen-gegen-rassismus-ol-18-28-03-2026-pvbpodh07j78z32i \nEinlassvorbehalt: Die Veranstaltenden behalten sich vor\, von ihrem Hausrecht Gebrauch zu machen und Personen\, die rechtsextremen Parteien oder Organisationen angehören\, der rechtsextremen Szene zuzuordnen sind oder bereits in der Vergangenheit durch rassistische\, nationalistische\, antisemitische oder sonstige menschenverachtende Äußerungen in Erscheinung getreten sind\, den Zutritt zur Veranstaltung zu verwehren oder sie von dieser auszuschließen. Jegliche Film-\, Ton- und/oder Videoaufnahmen sind verboten.
URL:https://ibis-ev.de/veranstaltung/argumentationstraining-gegen-rechtsextremismus-am-24-april-zusatztermin/
LOCATION:IBIS e.V.\, Klävemannstraße 14\, Oldenburg\, Niedersachsen\, 26122\, Deutschland
ORGANIZER;CN="IBIS e.V.":MAILTO:veranstaltung@ibis-ev.de
END:VEVENT
END:VCALENDAR